BEGIN:VCALENDAR
VERSION:2.0
PRODID:-//Boilstädt - ECPv6.15.20//NONSGML v1.0//EN
CALSCALE:GREGORIAN
METHOD:PUBLISH
X-WR-CALNAME:Boilstädt
X-ORIGINAL-URL:https://boilstaedt.de
X-WR-CALDESC:Veranstaltungen für Boilstädt
REFRESH-INTERVAL;VALUE=DURATION:PT1H
X-Robots-Tag:noindex
X-PUBLISHED-TTL:PT1H
BEGIN:VTIMEZONE
TZID:Europe/Berlin
BEGIN:DAYLIGHT
TZOFFSETFROM:+0100
TZOFFSETTO:+0200
TZNAME:CEST
DTSTART:20250330T010000
END:DAYLIGHT
BEGIN:STANDARD
TZOFFSETFROM:+0200
TZOFFSETTO:+0100
TZNAME:CET
DTSTART:20251026T010000
END:STANDARD
BEGIN:DAYLIGHT
TZOFFSETFROM:+0100
TZOFFSETTO:+0200
TZNAME:CEST
DTSTART:20260329T010000
END:DAYLIGHT
BEGIN:STANDARD
TZOFFSETFROM:+0200
TZOFFSETTO:+0100
TZNAME:CET
DTSTART:20261025T010000
END:STANDARD
BEGIN:DAYLIGHT
TZOFFSETFROM:+0100
TZOFFSETTO:+0200
TZNAME:CEST
DTSTART:20270328T010000
END:DAYLIGHT
BEGIN:STANDARD
TZOFFSETFROM:+0200
TZOFFSETTO:+0100
TZNAME:CET
DTSTART:20271031T010000
END:STANDARD
END:VTIMEZONE
BEGIN:VEVENT
DTSTART;TZID=Europe/Berlin:20260417T180000
DTEND;TZID=Europe/Berlin:20260417T200000
DTSTAMP:20260421T122146
CREATED:20260312T162433Z
LAST-MODIFIED:20260312T162433Z
UID:2410-1776448800-1776456000@boilstaedt.de
SUMMARY:Sportstammtisch
DESCRIPTION:Sportstammtisch auf der Kegelbahn am 17.04.2026\, 08.05.2026\, 12.06.2026\njeweils ab 18 Uhr – es kann gekegelt (Turnschuhe mitbringen) oder Darts gespielt\nwerden\, alternativ geselliges Beisammensein – bei guter Teilnahme ist geplant\, den\nSportstammtisch alle zwei Wochen stattfinden zu lassen\, für Getränke ist gesorgt.
URL:https://boilstaedt.de/termin/sportstammtisch/
LOCATION:Kegelbahn\, Gothaer Straße 24\, Gotha\, 99867
END:VEVENT
BEGIN:VEVENT
DTSTART;VALUE=DATE:20260416
DTEND;VALUE=DATE:20260417
DTSTAMP:20260421T122146
CREATED:20251205T105253Z
LAST-MODIFIED:20251205T105253Z
UID:2117-1776297600-1776383999@boilstaedt.de
SUMMARY:Biomüll
DESCRIPTION:
URL:https://boilstaedt.de/termin/biomuell-56/
END:VEVENT
BEGIN:VEVENT
DTSTART;VALUE=DATE:20260409
DTEND;VALUE=DATE:20260410
DTSTAMP:20260421T122146
CREATED:20251205T105651Z
LAST-MODIFIED:20251205T105651Z
UID:2162-1775692800-1775779199@boilstaedt.de
SUMMARY:Restmüll
DESCRIPTION:
URL:https://boilstaedt.de/termin/restmuell-5/
END:VEVENT
BEGIN:VEVENT
DTSTART;VALUE=DATE:20260406
DTEND;VALUE=DATE:20260407
DTSTAMP:20260421T122146
CREATED:20251205T125411Z
LAST-MODIFIED:20251205T130516Z
UID:2190-1775433600-1775519999@boilstaedt.de
SUMMARY:Ostermontag
DESCRIPTION:
URL:https://boilstaedt.de/termin/ostermontag/
END:VEVENT
BEGIN:VEVENT
DTSTART;TZID=Europe/Berlin:20260404T180000
DTEND;TZID=Europe/Berlin:20260404T210000
DTSTAMP:20260421T122146
CREATED:20251222T130725Z
LAST-MODIFIED:20251222T130725Z
UID:2246-1775325600-1775336400@boilstaedt.de
SUMMARY:Osterfeuer
DESCRIPTION:
URL:https://boilstaedt.de/termin/osterfeuer/
LOCATION:Feuerwehr\, WMCM+8X Gotha\, Gotha\, 99867
END:VEVENT
BEGIN:VEVENT
DTSTART;VALUE=DATE:20260403
DTEND;VALUE=DATE:20260404
DTSTAMP:20260421T122146
CREATED:20251205T125410Z
LAST-MODIFIED:20251205T130615Z
UID:2189-1775174400-1775260799@boilstaedt.de
SUMMARY:Karfreitag
DESCRIPTION:
URL:https://boilstaedt.de/termin/karfreitag/
END:VEVENT
BEGIN:VEVENT
DTSTART;VALUE=DATE:20260402
DTEND;VALUE=DATE:20260403
DTSTAMP:20260421T122146
CREATED:20251222T130603Z
LAST-MODIFIED:20251222T130603Z
UID:2244-1775088000-1775174399@boilstaedt.de
SUMMARY:Osterkegeln
DESCRIPTION:
URL:https://boilstaedt.de/termin/osterkegeln/
LOCATION:Kegelbahn\, Gothaer Straße 24\, Gotha\, 99867
END:VEVENT
BEGIN:VEVENT
DTSTART;VALUE=DATE:20260402
DTEND;VALUE=DATE:20260403
DTSTAMP:20260421T122146
CREATED:20251205T105253Z
LAST-MODIFIED:20251205T105253Z
UID:2116-1775088000-1775174399@boilstaedt.de
SUMMARY:Biomüll
DESCRIPTION:
URL:https://boilstaedt.de/termin/biomuell-55/
END:VEVENT
BEGIN:VEVENT
DTSTART;VALUE=DATE:20260401
DTEND;VALUE=DATE:20260402
DTSTAMP:20260421T122146
CREATED:20251205T105100Z
LAST-MODIFIED:20251205T105100Z
UID:2115-1775001600-1775087999@boilstaedt.de
SUMMARY:Gelbe Tonne
DESCRIPTION:
URL:https://boilstaedt.de/termin/gelbe-tonne-37/
END:VEVENT
BEGIN:VEVENT
DTSTART;VALUE=DATE:20260331
DTEND;VALUE=DATE:20260401
DTSTAMP:20260421T122146
CREATED:20251205T105059Z
LAST-MODIFIED:20251205T105059Z
UID:2114-1774915200-1775001599@boilstaedt.de
SUMMARY:Papiertonne
DESCRIPTION:
URL:https://boilstaedt.de/termin/papiertonne-28/
END:VEVENT
BEGIN:VEVENT
DTSTART;TZID=Europe/Berlin:20260327T193000
DTEND;TZID=Europe/Berlin:20260327T210000
DTSTAMP:20260421T122146
CREATED:20260312T163110Z
LAST-MODIFIED:20260312T163110Z
UID:2416-1774639800-1774645200@boilstaedt.de
SUMMARY:Jahreshauptversammlung Sportverein
DESCRIPTION:
URL:https://boilstaedt.de/termin/jahreshauptversammlung-sportverein/
LOCATION:Kegelbahn\, Gothaer Straße 24\, Gotha\, 99867
END:VEVENT
END:VCALENDAR