BEGIN:VCALENDAR
VERSION:2.0
PRODID:-//Boilstädt - ECPv6.15.20//NONSGML v1.0//EN
CALSCALE:GREGORIAN
METHOD:PUBLISH
X-WR-CALNAME:Boilstädt
X-ORIGINAL-URL:https://boilstaedt.de
X-WR-CALDESC:Veranstaltungen für Boilstädt
REFRESH-INTERVAL;VALUE=DURATION:PT1H
X-Robots-Tag:noindex
X-PUBLISHED-TTL:PT1H
BEGIN:VTIMEZONE
TZID:Europe/Berlin
BEGIN:DAYLIGHT
TZOFFSETFROM:+0100
TZOFFSETTO:+0200
TZNAME:CEST
DTSTART:20250330T010000
END:DAYLIGHT
BEGIN:STANDARD
TZOFFSETFROM:+0200
TZOFFSETTO:+0100
TZNAME:CET
DTSTART:20251026T010000
END:STANDARD
BEGIN:DAYLIGHT
TZOFFSETFROM:+0100
TZOFFSETTO:+0200
TZNAME:CEST
DTSTART:20260329T010000
END:DAYLIGHT
BEGIN:STANDARD
TZOFFSETFROM:+0200
TZOFFSETTO:+0100
TZNAME:CET
DTSTART:20261025T010000
END:STANDARD
BEGIN:DAYLIGHT
TZOFFSETFROM:+0100
TZOFFSETTO:+0200
TZNAME:CEST
DTSTART:20270328T010000
END:DAYLIGHT
BEGIN:STANDARD
TZOFFSETFROM:+0200
TZOFFSETTO:+0100
TZNAME:CET
DTSTART:20271031T010000
END:STANDARD
END:VTIMEZONE
BEGIN:VEVENT
DTSTART;VALUE=DATE:20260704
DTEND;VALUE=DATE:20260815
DTSTAMP:20260421T154439
CREATED:20251205T110919Z
LAST-MODIFIED:20251205T110919Z
UID:2180-1783123200-1786751999@boilstaedt.de
SUMMARY:Sommerferien
DESCRIPTION:
URL:https://boilstaedt.de/termin/sommerferien/
END:VEVENT
BEGIN:VEVENT
DTSTART;VALUE=DATE:20260709
DTEND;VALUE=DATE:20260710
DTSTAMP:20260421T154439
CREATED:20251205T105402Z
LAST-MODIFIED:20251205T105402Z
UID:2130-1783555200-1783641599@boilstaedt.de
SUMMARY:Biomüll
DESCRIPTION:
URL:https://boilstaedt.de/termin/biomuell-62/
END:VEVENT
BEGIN:VEVENT
DTSTART;VALUE=DATE:20260715
DTEND;VALUE=DATE:20260716
DTSTAMP:20260421T154439
CREATED:20251205T105414Z
LAST-MODIFIED:20251205T105414Z
UID:2131-1784073600-1784159999@boilstaedt.de
SUMMARY:Gelbe Tonne
DESCRIPTION:
URL:https://boilstaedt.de/termin/gelbe-tonne-42/
END:VEVENT
BEGIN:VEVENT
DTSTART;VALUE=DATE:20260721
DTEND;VALUE=DATE:20260722
DTSTAMP:20260421T154439
CREATED:20251205T105421Z
LAST-MODIFIED:20251205T105421Z
UID:2132-1784592000-1784678399@boilstaedt.de
SUMMARY:Papiertonne
DESCRIPTION:
URL:https://boilstaedt.de/termin/papiertonne-32/
END:VEVENT
BEGIN:VEVENT
DTSTART;VALUE=DATE:20260723
DTEND;VALUE=DATE:20260724
DTSTAMP:20260421T154439
CREATED:20251205T105425Z
LAST-MODIFIED:20251205T105425Z
UID:2133-1784764800-1784851199@boilstaedt.de
SUMMARY:Biomüll
DESCRIPTION:
URL:https://boilstaedt.de/termin/biomuell-63/
END:VEVENT
BEGIN:VEVENT
DTSTART;VALUE=DATE:20260723
DTEND;VALUE=DATE:20260724
DTSTAMP:20260421T154439
CREATED:20251205T105706Z
LAST-MODIFIED:20251205T105706Z
UID:2167-1784764800-1784851199@boilstaedt.de
SUMMARY:Restmüll
DESCRIPTION:
URL:https://boilstaedt.de/termin/restmuell-10/
END:VEVENT
BEGIN:VEVENT
DTSTART;VALUE=DATE:20260805
DTEND;VALUE=DATE:20260806
DTSTAMP:20260421T154439
CREATED:20251205T105428Z
LAST-MODIFIED:20251205T105428Z
UID:2134-1785888000-1785974399@boilstaedt.de
SUMMARY:Gelbe Tonne
DESCRIPTION:
URL:https://boilstaedt.de/termin/gelbe-tonne-43/
END:VEVENT
BEGIN:VEVENT
DTSTART;VALUE=DATE:20260806
DTEND;VALUE=DATE:20260807
DTSTAMP:20260421T154439
CREATED:20251205T105429Z
LAST-MODIFIED:20251205T105429Z
UID:2135-1785974400-1786060799@boilstaedt.de
SUMMARY:Biomüll
DESCRIPTION:
URL:https://boilstaedt.de/termin/biomuell-64/
END:VEVENT
BEGIN:VEVENT
DTSTART;VALUE=DATE:20260813
DTEND;VALUE=DATE:20260814
DTSTAMP:20260421T154439
CREATED:20251205T105706Z
LAST-MODIFIED:20251205T105706Z
UID:2168-1786579200-1786665599@boilstaedt.de
SUMMARY:Restmüll
DESCRIPTION:
URL:https://boilstaedt.de/termin/restmuell-11/
END:VEVENT
BEGIN:VEVENT
DTSTART;VALUE=DATE:20260818
DTEND;VALUE=DATE:20260819
DTSTAMP:20260421T154439
CREATED:20251205T105439Z
LAST-MODIFIED:20251205T105439Z
UID:2136-1787011200-1787097599@boilstaedt.de
SUMMARY:Papiertonne
DESCRIPTION:
URL:https://boilstaedt.de/termin/papiertonne-33/
END:VEVENT
BEGIN:VEVENT
DTSTART;TZID=Europe/Berlin:20260818T183000
DTEND;TZID=Europe/Berlin:20260818T193000
DTSTAMP:20260421T154439
CREATED:20260127T162435Z
LAST-MODIFIED:20260127T162435Z
UID:2375-1787077800-1787081400@boilstaedt.de
SUMMARY:Bürgersprechstunde
DESCRIPTION:
URL:https://boilstaedt.de/termin/buergersprechstunde-6/
LOCATION:Gemeindehaus\, Dorfstraße 4\, Gotha\, 99867
END:VEVENT
BEGIN:VEVENT
DTSTART;TZID=Europe/Berlin:20260818T193000
DTEND;TZID=Europe/Berlin:20260818T210000
DTSTAMP:20260421T154439
CREATED:20260127T160602Z
LAST-MODIFIED:20260127T163248Z
UID:2365-1787081400-1787086800@boilstaedt.de
SUMMARY:Sitzung Ortsteilrat
DESCRIPTION:
URL:https://boilstaedt.de/termin/sitzung-ortsteilrat-16/
LOCATION:Gemeindehaus\, Dorfstraße 4\, Gotha\, 99867
END:VEVENT
BEGIN:VEVENT
DTSTART;VALUE=DATE:20260820
DTEND;VALUE=DATE:20260821
DTSTAMP:20260421T154439
CREATED:20251205T105442Z
LAST-MODIFIED:20251205T105442Z
UID:2137-1787184000-1787270399@boilstaedt.de
SUMMARY:Biomüll
DESCRIPTION:
URL:https://boilstaedt.de/termin/biomuell-65/
END:VEVENT
BEGIN:VEVENT
DTSTART;VALUE=DATE:20260826
DTEND;VALUE=DATE:20260827
DTSTAMP:20260421T154439
CREATED:20251205T105444Z
LAST-MODIFIED:20251205T105444Z
UID:2138-1787702400-1787788799@boilstaedt.de
SUMMARY:Gelbe Tonne
DESCRIPTION:
URL:https://boilstaedt.de/termin/gelbe-tonne-44/
END:VEVENT
BEGIN:VEVENT
DTSTART;VALUE=DATE:20260903
DTEND;VALUE=DATE:20260904
DTSTAMP:20260421T154439
CREATED:20251205T105445Z
LAST-MODIFIED:20251205T105445Z
UID:2139-1788393600-1788479999@boilstaedt.de
SUMMARY:Biomüll
DESCRIPTION:
URL:https://boilstaedt.de/termin/biomuell-66/
END:VEVENT
BEGIN:VEVENT
DTSTART;VALUE=DATE:20260903
DTEND;VALUE=DATE:20260904
DTSTAMP:20260421T154439
CREATED:20251205T105707Z
LAST-MODIFIED:20251205T105707Z
UID:2169-1788393600-1788479999@boilstaedt.de
SUMMARY:Restmüll
DESCRIPTION:
URL:https://boilstaedt.de/termin/restmuell-12/
END:VEVENT
BEGIN:VEVENT
DTSTART;VALUE=DATE:20260904
DTEND;VALUE=DATE:20260907
DTSTAMP:20260421T154439
CREATED:20251222T132054Z
LAST-MODIFIED:20251222T132054Z
UID:2265-1788480000-1788739199@boilstaedt.de
SUMMARY:Boilstädter Zeltkirmes
DESCRIPTION:
URL:https://boilstaedt.de/termin/boilstaedter-zeltkirmes/
LOCATION:Sportplatz\, Zum Boxberg 9\, Gotha\, 99867
END:VEVENT
BEGIN:VEVENT
DTSTART;VALUE=DATE:20260915
DTEND;VALUE=DATE:20260916
DTSTAMP:20260421T154439
CREATED:20251205T105445Z
LAST-MODIFIED:20251205T105445Z
UID:2140-1789430400-1789516799@boilstaedt.de
SUMMARY:Papiertonne
DESCRIPTION:
URL:https://boilstaedt.de/termin/papiertonne-34/
END:VEVENT
BEGIN:VEVENT
DTSTART;VALUE=DATE:20260916
DTEND;VALUE=DATE:20260917
DTSTAMP:20260421T154439
CREATED:20251205T105452Z
LAST-MODIFIED:20251205T105452Z
UID:2141-1789516800-1789603199@boilstaedt.de
SUMMARY:Gelbe Tonne
DESCRIPTION:
URL:https://boilstaedt.de/termin/gelbe-tonne-45/
END:VEVENT
BEGIN:VEVENT
DTSTART;VALUE=DATE:20260917
DTEND;VALUE=DATE:20260918
DTSTAMP:20260421T154439
CREATED:20251205T105453Z
LAST-MODIFIED:20251205T105453Z
UID:2142-1789603200-1789689599@boilstaedt.de
SUMMARY:Biomüll
DESCRIPTION:
URL:https://boilstaedt.de/termin/biomuell-67/
END:VEVENT
BEGIN:VEVENT
DTSTART;VALUE=DATE:20260920
DTEND;VALUE=DATE:20260921
DTSTAMP:20260421T154439
CREATED:20251205T125416Z
LAST-MODIFIED:20251205T130046Z
UID:2194-1789862400-1789948799@boilstaedt.de
SUMMARY:Weltkindertag
DESCRIPTION:
URL:https://boilstaedt.de/termin/weltkindertag/
END:VEVENT
BEGIN:VEVENT
DTSTART;TZID=Europe/Berlin:20260922T183000
DTEND;TZID=Europe/Berlin:20260922T193000
DTSTAMP:20260421T154439
CREATED:20260127T162436Z
LAST-MODIFIED:20260127T162436Z
UID:2376-1790101800-1790105400@boilstaedt.de
SUMMARY:Bürgersprechstunde
DESCRIPTION:
URL:https://boilstaedt.de/termin/buergersprechstunde-7/
LOCATION:Gemeindehaus\, Dorfstraße 4\, Gotha\, 99867
END:VEVENT
BEGIN:VEVENT
DTSTART;TZID=Europe/Berlin:20260922T193000
DTEND;TZID=Europe/Berlin:20260922T210000
DTSTAMP:20260421T154439
CREATED:20260127T160603Z
LAST-MODIFIED:20260127T163330Z
UID:2366-1790105400-1790110800@boilstaedt.de
SUMMARY:Sitzung Ortsteilrat
DESCRIPTION:
URL:https://boilstaedt.de/termin/sitzung-ortsteilrat-17/
LOCATION:Gemeindehaus\, Dorfstraße 4\, Gotha\, 99867
END:VEVENT
BEGIN:VEVENT
DTSTART;VALUE=DATE:20260924
DTEND;VALUE=DATE:20260925
DTSTAMP:20260421T154439
CREATED:20251205T105708Z
LAST-MODIFIED:20251205T105708Z
UID:2170-1790208000-1790294399@boilstaedt.de
SUMMARY:Restmüll
DESCRIPTION:
URL:https://boilstaedt.de/termin/restmuell-13/
END:VEVENT
BEGIN:VEVENT
DTSTART;VALUE=DATE:20261001
DTEND;VALUE=DATE:20261002
DTSTAMP:20260421T154439
CREATED:20251205T105458Z
LAST-MODIFIED:20251205T105458Z
UID:2143-1790812800-1790899199@boilstaedt.de
SUMMARY:Biomüll
DESCRIPTION:
URL:https://boilstaedt.de/termin/biomuell-68/
END:VEVENT
BEGIN:VEVENT
DTSTART;VALUE=DATE:20261003
DTEND;VALUE=DATE:20261004
DTSTAMP:20260421T154439
CREATED:20251205T125417Z
LAST-MODIFIED:20251205T130021Z
UID:2195-1790985600-1791071999@boilstaedt.de
SUMMARY:Tag der Deutschen Einheit
DESCRIPTION:
URL:https://boilstaedt.de/termin/tag-der-deutschen-einheit/
END:VEVENT
BEGIN:VEVENT
DTSTART;VALUE=DATE:20261007
DTEND;VALUE=DATE:20261008
DTSTAMP:20260421T154439
CREATED:20251205T105459Z
LAST-MODIFIED:20251205T105459Z
UID:2144-1791331200-1791417599@boilstaedt.de
SUMMARY:Gelbe Tonne
DESCRIPTION:
URL:https://boilstaedt.de/termin/gelbe-tonne-46/
END:VEVENT
BEGIN:VEVENT
DTSTART;VALUE=DATE:20261012
DTEND;VALUE=DATE:20261025
DTSTAMP:20260421T154439
CREATED:20251205T111040Z
LAST-MODIFIED:20251205T111040Z
UID:2182-1791763200-1792886399@boilstaedt.de
SUMMARY:Herbstferien
DESCRIPTION:
URL:https://boilstaedt.de/termin/herbstferien/
END:VEVENT
BEGIN:VEVENT
DTSTART;VALUE=DATE:20261013
DTEND;VALUE=DATE:20261014
DTSTAMP:20260421T154439
CREATED:20251205T105500Z
LAST-MODIFIED:20251205T105500Z
UID:2145-1791849600-1791935999@boilstaedt.de
SUMMARY:Papiertonne
DESCRIPTION:
URL:https://boilstaedt.de/termin/papiertonne-35/
END:VEVENT
BEGIN:VEVENT
DTSTART;VALUE=DATE:20261015
DTEND;VALUE=DATE:20261016
DTSTAMP:20260421T154439
CREATED:20251205T105605Z
LAST-MODIFIED:20251205T105605Z
UID:2146-1792022400-1792108799@boilstaedt.de
SUMMARY:Biomüll
DESCRIPTION:
URL:https://boilstaedt.de/termin/biomuell-69/
END:VEVENT
END:VCALENDAR