BEGIN:VCALENDAR
VERSION:2.0
PRODID:-//Boilstädt - ECPv6.15.20//NONSGML v1.0//EN
CALSCALE:GREGORIAN
METHOD:PUBLISH
X-ORIGINAL-URL:https://boilstaedt.de
X-WR-CALDESC:Veranstaltungen für Boilstädt
REFRESH-INTERVAL;VALUE=DURATION:PT1H
X-Robots-Tag:noindex
X-PUBLISHED-TTL:PT1H
BEGIN:VTIMEZONE
TZID:Europe/Berlin
BEGIN:DAYLIGHT
TZOFFSETFROM:+0100
TZOFFSETTO:+0200
TZNAME:CEST
DTSTART:20250330T010000
END:DAYLIGHT
BEGIN:STANDARD
TZOFFSETFROM:+0200
TZOFFSETTO:+0100
TZNAME:CET
DTSTART:20251026T010000
END:STANDARD
BEGIN:DAYLIGHT
TZOFFSETFROM:+0100
TZOFFSETTO:+0200
TZNAME:CEST
DTSTART:20260329T010000
END:DAYLIGHT
BEGIN:STANDARD
TZOFFSETFROM:+0200
TZOFFSETTO:+0100
TZNAME:CET
DTSTART:20261025T010000
END:STANDARD
BEGIN:DAYLIGHT
TZOFFSETFROM:+0100
TZOFFSETTO:+0200
TZNAME:CEST
DTSTART:20270328T010000
END:DAYLIGHT
BEGIN:STANDARD
TZOFFSETFROM:+0200
TZOFFSETTO:+0100
TZNAME:CET
DTSTART:20271031T010000
END:STANDARD
END:VTIMEZONE
BEGIN:VEVENT
DTSTART;VALUE=DATE:20261001
DTEND;VALUE=DATE:20261002
DTSTAMP:20260421T191730
CREATED:20251205T105458Z
LAST-MODIFIED:20251205T105458Z
UID:2143-1790812800-1790899199@boilstaedt.de
SUMMARY:Biomüll
DESCRIPTION:
URL:https://boilstaedt.de/termin/biomuell-68/
END:VEVENT
BEGIN:VEVENT
DTSTART;VALUE=DATE:20261003
DTEND;VALUE=DATE:20261004
DTSTAMP:20260421T191730
CREATED:20251205T125417Z
LAST-MODIFIED:20251205T130021Z
UID:2195-1790985600-1791071999@boilstaedt.de
SUMMARY:Tag der Deutschen Einheit
DESCRIPTION:
URL:https://boilstaedt.de/termin/tag-der-deutschen-einheit/
END:VEVENT
BEGIN:VEVENT
DTSTART;VALUE=DATE:20261007
DTEND;VALUE=DATE:20261008
DTSTAMP:20260421T191730
CREATED:20251205T105459Z
LAST-MODIFIED:20251205T105459Z
UID:2144-1791331200-1791417599@boilstaedt.de
SUMMARY:Gelbe Tonne
DESCRIPTION:
URL:https://boilstaedt.de/termin/gelbe-tonne-46/
END:VEVENT
BEGIN:VEVENT
DTSTART;VALUE=DATE:20261012
DTEND;VALUE=DATE:20261025
DTSTAMP:20260421T191730
CREATED:20251205T111040Z
LAST-MODIFIED:20251205T111040Z
UID:2182-1791763200-1792886399@boilstaedt.de
SUMMARY:Herbstferien
DESCRIPTION:
URL:https://boilstaedt.de/termin/herbstferien/
END:VEVENT
BEGIN:VEVENT
DTSTART;VALUE=DATE:20261013
DTEND;VALUE=DATE:20261014
DTSTAMP:20260421T191730
CREATED:20251205T105500Z
LAST-MODIFIED:20251205T105500Z
UID:2145-1791849600-1791935999@boilstaedt.de
SUMMARY:Papiertonne
DESCRIPTION:
URL:https://boilstaedt.de/termin/papiertonne-35/
END:VEVENT
BEGIN:VEVENT
DTSTART;VALUE=DATE:20261015
DTEND;VALUE=DATE:20261016
DTSTAMP:20260421T191730
CREATED:20251205T105605Z
LAST-MODIFIED:20251205T105605Z
UID:2146-1792022400-1792108799@boilstaedt.de
SUMMARY:Biomüll
DESCRIPTION:
URL:https://boilstaedt.de/termin/biomuell-69/
END:VEVENT
BEGIN:VEVENT
DTSTART;VALUE=DATE:20261015
DTEND;VALUE=DATE:20261016
DTSTAMP:20260421T191730
CREATED:20251205T105720Z
LAST-MODIFIED:20251205T105720Z
UID:2171-1792022400-1792108799@boilstaedt.de
SUMMARY:Restmüll
DESCRIPTION:
URL:https://boilstaedt.de/termin/restmuell-14/
END:VEVENT
BEGIN:VEVENT
DTSTART;TZID=Europe/Berlin:20261027T183000
DTEND;TZID=Europe/Berlin:20261027T193000
DTSTAMP:20260421T191730
CREATED:20260127T162442Z
LAST-MODIFIED:20260127T162442Z
UID:2377-1793125800-1793129400@boilstaedt.de
SUMMARY:Bürgersprechstunde
DESCRIPTION:
URL:https://boilstaedt.de/termin/buergersprechstunde-8/
LOCATION:Gemeindehaus\, Dorfstraße 4\, Gotha\, 99867
END:VEVENT
BEGIN:VEVENT
DTSTART;TZID=Europe/Berlin:20261027T193000
DTEND;TZID=Europe/Berlin:20261027T210000
DTSTAMP:20260421T191730
CREATED:20260127T160606Z
LAST-MODIFIED:20260127T163406Z
UID:2367-1793129400-1793134800@boilstaedt.de
SUMMARY:Sitzung Ortsteilrat
DESCRIPTION:
URL:https://boilstaedt.de/termin/sitzung-ortsteilrat-18/
LOCATION:Gemeindehaus\, Dorfstraße 4\, Gotha\, 99867
END:VEVENT
BEGIN:VEVENT
DTSTART;VALUE=DATE:20261028
DTEND;VALUE=DATE:20261029
DTSTAMP:20260421T191730
CREATED:20251205T105606Z
LAST-MODIFIED:20251205T105606Z
UID:2147-1793145600-1793231999@boilstaedt.de
SUMMARY:Gelbe Tonne
DESCRIPTION:
URL:https://boilstaedt.de/termin/gelbe-tonne-47/
END:VEVENT
BEGIN:VEVENT
DTSTART;VALUE=DATE:20261029
DTEND;VALUE=DATE:20261030
DTSTAMP:20260421T191730
CREATED:20251205T105607Z
LAST-MODIFIED:20251205T105607Z
UID:2148-1793232000-1793318399@boilstaedt.de
SUMMARY:Biomüll
DESCRIPTION:
URL:https://boilstaedt.de/termin/biomuell-70/
END:VEVENT
BEGIN:VEVENT
DTSTART;VALUE=DATE:20261031
DTEND;VALUE=DATE:20261101
DTSTAMP:20260421T191730
CREATED:20251205T125417Z
LAST-MODIFIED:20251205T125949Z
UID:2196-1793404800-1793491199@boilstaedt.de
SUMMARY:Reformationstag
DESCRIPTION:
URL:https://boilstaedt.de/termin/reformationstag/
END:VEVENT
BEGIN:VEVENT
DTSTART;VALUE=DATE:20261105
DTEND;VALUE=DATE:20261106
DTSTAMP:20260421T191730
CREATED:20251205T105721Z
LAST-MODIFIED:20251205T105721Z
UID:2172-1793836800-1793923199@boilstaedt.de
SUMMARY:Restmüll
DESCRIPTION:
URL:https://boilstaedt.de/termin/restmuell-15/
END:VEVENT
BEGIN:VEVENT
DTSTART;VALUE=DATE:20261110
DTEND;VALUE=DATE:20261111
DTSTAMP:20260421T191730
CREATED:20251205T105607Z
LAST-MODIFIED:20251205T105607Z
UID:2149-1794268800-1794355199@boilstaedt.de
SUMMARY:Papiertonne
DESCRIPTION:
URL:https://boilstaedt.de/termin/papiertonne-36/
END:VEVENT
BEGIN:VEVENT
DTSTART;VALUE=DATE:20261112
DTEND;VALUE=DATE:20261113
DTSTAMP:20260421T191730
CREATED:20251205T105608Z
LAST-MODIFIED:20251205T105608Z
UID:2150-1794441600-1794527999@boilstaedt.de
SUMMARY:Biomüll
DESCRIPTION:
URL:https://boilstaedt.de/termin/biomuell-71/
END:VEVENT
BEGIN:VEVENT
DTSTART;TZID=Europe/Berlin:20261114T180000
DTEND;TZID=Europe/Berlin:20261114T210000
DTSTAMP:20260421T191730
CREATED:20251222T132214Z
LAST-MODIFIED:20251222T132214Z
UID:2267-1794679200-1794690000@boilstaedt.de
SUMMARY:Martinsumzug
DESCRIPTION:
URL:https://boilstaedt.de/termin/martinsumzug/
LOCATION:Feuerwehr\, WMCM+8X Gotha\, Gotha\, 99867
END:VEVENT
BEGIN:VEVENT
DTSTART;VALUE=DATE:20261118
DTEND;VALUE=DATE:20261119
DTSTAMP:20260421T191730
CREATED:20251205T105620Z
LAST-MODIFIED:20251205T105620Z
UID:2151-1794960000-1795046399@boilstaedt.de
SUMMARY:Gelbe Tonne
DESCRIPTION:
URL:https://boilstaedt.de/termin/gelbe-tonne-48/
END:VEVENT
BEGIN:VEVENT
DTSTART;TZID=Europe/Berlin:20261124T183000
DTEND;TZID=Europe/Berlin:20261124T193000
DTSTAMP:20260421T191730
CREATED:20260127T162443Z
LAST-MODIFIED:20260127T162443Z
UID:2378-1795545000-1795548600@boilstaedt.de
SUMMARY:Bürgersprechstunde
DESCRIPTION:
URL:https://boilstaedt.de/termin/buergersprechstunde-9/
LOCATION:Gemeindehaus\, Dorfstraße 4\, Gotha\, 99867
END:VEVENT
BEGIN:VEVENT
DTSTART;TZID=Europe/Berlin:20261124T193000
DTEND;TZID=Europe/Berlin:20261124T210000
DTSTAMP:20260421T191730
CREATED:20260127T152314Z
LAST-MODIFIED:20260127T154408Z
UID:2345-1795548600-1795554000@boilstaedt.de
SUMMARY:Sitzung Ortsteilrat
DESCRIPTION:
URL:https://boilstaedt.de/termin/sitzung-ortsteilrat-9/
LOCATION:Gemeindehaus\, Dorfstraße 4\, Gotha\, 99867
END:VEVENT
BEGIN:VEVENT
DTSTART;VALUE=DATE:20261126
DTEND;VALUE=DATE:20261127
DTSTAMP:20260421T191730
CREATED:20251205T105623Z
LAST-MODIFIED:20251205T105623Z
UID:2152-1795651200-1795737599@boilstaedt.de
SUMMARY:Biomüll
DESCRIPTION:
URL:https://boilstaedt.de/termin/biomuell-72/
END:VEVENT
BEGIN:VEVENT
DTSTART;VALUE=DATE:20261126
DTEND;VALUE=DATE:20261127
DTSTAMP:20260421T191730
CREATED:20251205T105721Z
LAST-MODIFIED:20251205T105721Z
UID:2173-1795651200-1795737599@boilstaedt.de
SUMMARY:Restmüll
DESCRIPTION:
URL:https://boilstaedt.de/termin/restmuell-16/
END:VEVENT
BEGIN:VEVENT
DTSTART;TZID=Europe/Berlin:20261127T150000
DTEND;TZID=Europe/Berlin:20261127T170000
DTSTAMP:20260421T191730
CREATED:20251222T132317Z
LAST-MODIFIED:20251222T132317Z
UID:2269-1795791600-1795798800@boilstaedt.de
SUMMARY:Weihnachtsmarkt im Kindergarten
DESCRIPTION:
URL:https://boilstaedt.de/termin/weihnachtsmarkt-im-kindergarten-2/
LOCATION:Kindergarten\, Kurze Straße 1\, Gotha\, 99867
END:VEVENT
BEGIN:VEVENT
DTSTART;TZID=Europe/Berlin:20261128T150000
DTEND;TZID=Europe/Berlin:20261128T210000
DTSTAMP:20260421T191730
CREATED:20251222T132515Z
LAST-MODIFIED:20251222T132515Z
UID:2271-1795878000-1795899600@boilstaedt.de
SUMMARY:Dorfweihnacht
DESCRIPTION:
URL:https://boilstaedt.de/termin/dorfweihnacht/
LOCATION:Feuerwehr\, WMCM+8X Gotha\, Gotha\, 99867
END:VEVENT
BEGIN:VEVENT
DTSTART;VALUE=DATE:20261208
DTEND;VALUE=DATE:20261209
DTSTAMP:20260421T191730
CREATED:20251205T105625Z
LAST-MODIFIED:20251205T105625Z
UID:2153-1796688000-1796774399@boilstaedt.de
SUMMARY:Papiertonne
DESCRIPTION:
URL:https://boilstaedt.de/termin/papiertonne-37/
END:VEVENT
BEGIN:VEVENT
DTSTART;VALUE=DATE:20261209
DTEND;VALUE=DATE:20261210
DTSTAMP:20260421T191730
CREATED:20251205T105625Z
LAST-MODIFIED:20251205T105625Z
UID:2154-1796774400-1796860799@boilstaedt.de
SUMMARY:Gelbe Tonne
DESCRIPTION:
URL:https://boilstaedt.de/termin/gelbe-tonne-49/
END:VEVENT
BEGIN:VEVENT
DTSTART;VALUE=DATE:20261210
DTEND;VALUE=DATE:20261211
DTSTAMP:20260421T191730
CREATED:20251205T105626Z
LAST-MODIFIED:20251205T105626Z
UID:2155-1796860800-1796947199@boilstaedt.de
SUMMARY:Biomüll
DESCRIPTION:
URL:https://boilstaedt.de/termin/biomuell-73/
END:VEVENT
BEGIN:VEVENT
DTSTART;TZID=Europe/Berlin:20261211T150000
DTEND;TZID=Europe/Berlin:20261211T183000
DTSTAMP:20260421T191730
CREATED:20251222T132706Z
LAST-MODIFIED:20251222T132706Z
UID:2273-1797001200-1797013800@boilstaedt.de
SUMMARY:Seniorenweihnachtsfeier
DESCRIPTION:
URL:https://boilstaedt.de/termin/seniorenweihnachtsfeier/
LOCATION:Wiesengrund\, Gothaer Straße 19\, Gotha\, 99867
END:VEVENT
BEGIN:VEVENT
DTSTART;TZID=Europe/Berlin:20261211T183000
DTEND;TZID=Europe/Berlin:20261211T193000
DTSTAMP:20260421T191730
CREATED:20260127T162444Z
LAST-MODIFIED:20260127T162444Z
UID:2379-1797013800-1797017400@boilstaedt.de
SUMMARY:Bürgersprechstunde
DESCRIPTION:
URL:https://boilstaedt.de/termin/buergersprechstunde-10/
LOCATION:Gemeindehaus\, Dorfstraße 4\, Gotha\, 99867
END:VEVENT
BEGIN:VEVENT
DTSTART;TZID=Europe/Berlin:20261211T193000
DTEND;TZID=Europe/Berlin:20261211T210000
DTSTAMP:20260421T191730
CREATED:20260127T152315Z
LAST-MODIFIED:20260127T152635Z
UID:2346-1797017400-1797022800@boilstaedt.de
SUMMARY:Sitzung Ortsteilrat
DESCRIPTION:
URL:https://boilstaedt.de/termin/sitzung-ortsteilrat-10/
LOCATION:Gemeindehaus\, Dorfstraße 4\, Gotha\, 99867
END:VEVENT
BEGIN:VEVENT
DTSTART;VALUE=DATE:20261217
DTEND;VALUE=DATE:20261218
DTSTAMP:20260421T191730
CREATED:20251205T105722Z
LAST-MODIFIED:20251205T105722Z
UID:2174-1797465600-1797551999@boilstaedt.de
SUMMARY:Restmüll
DESCRIPTION:
URL:https://boilstaedt.de/termin/restmuell-17/
END:VEVENT
END:VCALENDAR