BEGIN:VCALENDAR
VERSION:2.0
PRODID:-//Boilstädt - ECPv6.15.20//NONSGML v1.0//EN
CALSCALE:GREGORIAN
METHOD:PUBLISH
X-WR-CALNAME:Boilstädt
X-ORIGINAL-URL:https://boilstaedt.de
X-WR-CALDESC:Veranstaltungen für Boilstädt
REFRESH-INTERVAL;VALUE=DURATION:PT1H
X-Robots-Tag:noindex
X-PUBLISHED-TTL:PT1H
BEGIN:VTIMEZONE
TZID:Europe/Berlin
BEGIN:DAYLIGHT
TZOFFSETFROM:+0100
TZOFFSETTO:+0200
TZNAME:CEST
DTSTART:20250330T010000
END:DAYLIGHT
BEGIN:STANDARD
TZOFFSETFROM:+0200
TZOFFSETTO:+0100
TZNAME:CET
DTSTART:20251026T010000
END:STANDARD
BEGIN:DAYLIGHT
TZOFFSETFROM:+0100
TZOFFSETTO:+0200
TZNAME:CEST
DTSTART:20260329T010000
END:DAYLIGHT
BEGIN:STANDARD
TZOFFSETFROM:+0200
TZOFFSETTO:+0100
TZNAME:CET
DTSTART:20261025T010000
END:STANDARD
BEGIN:DAYLIGHT
TZOFFSETFROM:+0100
TZOFFSETTO:+0200
TZNAME:CEST
DTSTART:20270328T010000
END:DAYLIGHT
BEGIN:STANDARD
TZOFFSETFROM:+0200
TZOFFSETTO:+0100
TZNAME:CET
DTSTART:20271031T010000
END:STANDARD
BEGIN:DAYLIGHT
TZOFFSETFROM:+0100
TZOFFSETTO:+0200
TZNAME:CEST
DTSTART:20280326T010000
END:DAYLIGHT
BEGIN:STANDARD
TZOFFSETFROM:+0200
TZOFFSETTO:+0100
TZNAME:CET
DTSTART:20281029T010000
END:STANDARD
END:VTIMEZONE
BEGIN:VEVENT
DTSTART;TZID=Europe/Berlin:20261211T150000
DTEND;TZID=Europe/Berlin:20261211T183000
DTSTAMP:20260421T222729
CREATED:20251222T132706Z
LAST-MODIFIED:20251222T132706Z
UID:2273-1797001200-1797013800@boilstaedt.de
SUMMARY:Seniorenweihnachtsfeier
DESCRIPTION:
URL:https://boilstaedt.de/termin/seniorenweihnachtsfeier/
LOCATION:Wiesengrund\, Gothaer Straße 19\, Gotha\, 99867
END:VEVENT
BEGIN:VEVENT
DTSTART;TZID=Europe/Berlin:20261211T183000
DTEND;TZID=Europe/Berlin:20261211T193000
DTSTAMP:20260421T222729
CREATED:20260127T162444Z
LAST-MODIFIED:20260127T162444Z
UID:2379-1797013800-1797017400@boilstaedt.de
SUMMARY:Bürgersprechstunde
DESCRIPTION:
URL:https://boilstaedt.de/termin/buergersprechstunde-10/
LOCATION:Gemeindehaus\, Dorfstraße 4\, Gotha\, 99867
END:VEVENT
BEGIN:VEVENT
DTSTART;TZID=Europe/Berlin:20261211T193000
DTEND;TZID=Europe/Berlin:20261211T210000
DTSTAMP:20260421T222729
CREATED:20260127T152315Z
LAST-MODIFIED:20260127T152635Z
UID:2346-1797017400-1797022800@boilstaedt.de
SUMMARY:Sitzung Ortsteilrat
DESCRIPTION:
URL:https://boilstaedt.de/termin/sitzung-ortsteilrat-10/
LOCATION:Gemeindehaus\, Dorfstraße 4\, Gotha\, 99867
END:VEVENT
BEGIN:VEVENT
DTSTART;VALUE=DATE:20261217
DTEND;VALUE=DATE:20261218
DTSTAMP:20260421T222729
CREATED:20251205T105722Z
LAST-MODIFIED:20251205T105722Z
UID:2174-1797465600-1797551999@boilstaedt.de
SUMMARY:Restmüll
DESCRIPTION:
URL:https://boilstaedt.de/termin/restmuell-17/
END:VEVENT
BEGIN:VEVENT
DTSTART;VALUE=DATE:20261218
DTEND;VALUE=DATE:20261219
DTSTAMP:20260421T222729
CREATED:20251222T132755Z
LAST-MODIFIED:20251222T132755Z
UID:2275-1797552000-1797638399@boilstaedt.de
SUMMARY:Weihnachtskegeln
DESCRIPTION:
URL:https://boilstaedt.de/termin/weihnachtskegeln/
LOCATION:Kegelbahn\, Gothaer Straße 24\, Gotha\, 99867
END:VEVENT
BEGIN:VEVENT
DTSTART;VALUE=DATE:20261223
DTEND;VALUE=DATE:20270103
DTSTAMP:20260421T222729
CREATED:20251205T111200Z
LAST-MODIFIED:20251205T111200Z
UID:2184-1797984000-1798934399@boilstaedt.de
SUMMARY:Weihnachtsferien
DESCRIPTION:
URL:https://boilstaedt.de/termin/weihnachtsferien-2/
END:VEVENT
BEGIN:VEVENT
DTSTART;VALUE=DATE:20261224
DTEND;VALUE=DATE:20261225
DTSTAMP:20260421T222729
CREATED:20251205T105635Z
LAST-MODIFIED:20251205T105635Z
UID:2156-1798070400-1798156799@boilstaedt.de
SUMMARY:Biomüll
DESCRIPTION:
URL:https://boilstaedt.de/termin/biomuell-74/
END:VEVENT
BEGIN:VEVENT
DTSTART;VALUE=DATE:20261225
DTEND;VALUE=DATE:20261226
DTSTAMP:20260421T222729
CREATED:20251205T125418Z
LAST-MODIFIED:20251205T125924Z
UID:2197-1798156800-1798243199@boilstaedt.de
SUMMARY:1. Weihnachtsfeiertag
DESCRIPTION:
URL:https://boilstaedt.de/termin/1-weihnachtsfeiertag/
END:VEVENT
BEGIN:VEVENT
DTSTART;VALUE=DATE:20261226
DTEND;VALUE=DATE:20261227
DTSTAMP:20260421T222729
CREATED:20251205T125431Z
LAST-MODIFIED:20251205T125720Z
UID:2198-1798243200-1798329599@boilstaedt.de
SUMMARY:2. Weihnachtsfeiertag
DESCRIPTION:
URL:https://boilstaedt.de/termin/2-weihnachtsfeiertag/
END:VEVENT
BEGIN:VEVENT
DTSTART;VALUE=DATE:20261230
DTEND;VALUE=DATE:20261231
DTSTAMP:20260421T222729
CREATED:20251205T105636Z
LAST-MODIFIED:20251205T105636Z
UID:2157-1798588800-1798675199@boilstaedt.de
SUMMARY:Gelbe Tonne
DESCRIPTION:
URL:https://boilstaedt.de/termin/gelbe-tonne-50/
END:VEVENT
END:VCALENDAR